BEGIN:VCALENDAR
VERSION:2.0
PRODID:-//Circus Antoni - ECPv6.8.2.1//NONSGML v1.0//EN
CALSCALE:GREGORIAN
METHOD:PUBLISH
X-ORIGINAL-URL:https://circusantoni.de
X-WR-CALDESC:Veranstaltungen für Circus Antoni
REFRESH-INTERVAL;VALUE=DURATION:PT1H
X-Robots-Tag:noindex
X-PUBLISHED-TTL:PT1H
BEGIN:VTIMEZONE
TZID:Europe/Berlin
BEGIN:DAYLIGHT
TZOFFSETFROM:+0100
TZOFFSETTO:+0200
TZNAME:CEST
DTSTART:20260329T010000
END:DAYLIGHT
BEGIN:STANDARD
TZOFFSETFROM:+0200
TZOFFSETTO:+0100
TZNAME:CET
DTSTART:20261025T010000
END:STANDARD
END:VTIMEZONE
BEGIN:VEVENT
DTSTART;TZID=Europe/Berlin:20260419T150000
DTEND;TZID=Europe/Berlin:20260419T173000
DTSTAMP:20260419T221449
CREATED:20260330T151046Z
LAST-MODIFIED:20260330T152115Z
UID:17387-1776610800-1776619800@circusantoni.de
SUMMARY:Dortmund Wambel 19.04
DESCRIPTION:Manege frei für Dortmunds Lieblingscircus! \n  \nFreut euch auf zahlreiche unvergessliche Shows- traditionell an zwei Standorten!  \n  \n📍 17.04-26.04 \n Dortmund Wambel \nWambeler Hellweg 180 \n  \n📍  01.05-10.05 \nFredenbaumplatz \nZufahrt Eberstraße \n  \nFreut euch auf ein neues\, zeitgemäßes Circusprogramm für die ganze Familie mit: \n  \n✨ Tierdressuren \n  \n✨ Artistik \n  \n✨ Humor \n  \n✨ echter Circus-Atmosphäre \n  \nVorstellungen: \n🕓 täglich 16:00 Uhr \nSonntags 15:00 Uhr \n❌ Montags\, dienstags und Mittwoch (nur 06.05) keine Shows! \n  \n  \n⭐Freitags ist Familientag \nErwachsene zahlen Kinderpreise auf Sperrsitz und Loge! \n  \n  \nWir freuen uns auf euren Besuch 🎪
URL:https://circusantoni.de/event/dortmund-wambel-19-04/
LOCATION:Wambeler Hellweg\, Wambeler Hellweg 180\, Dortmund\, NRW\, 44143
ATTACH;FMTTYPE=image/jpeg:https://circusantoni.de/wp-content/uploads/2024/03/20211217_145241-scaled.jpg
ORGANIZER;CN="Circus Antoni":MAILTO:info@circusantoni.de
END:VEVENT
BEGIN:VEVENT
DTSTART;TZID=Europe/Berlin:20260422T160000
DTEND;TZID=Europe/Berlin:20260422T183000
DTSTAMP:20260419T221449
CREATED:20260330T151321Z
LAST-MODIFIED:20260330T151321Z
UID:17392-1776873600-1776882600@circusantoni.de
SUMMARY:Dortmund Wambel 22.04
DESCRIPTION:Manege frei für Dortmunds Lieblingscircus! \n  \nFreut euch auf zahlreiche unvergessliche Shows- traditionell an zwei Standorten!  \n  \n📍 17.04-26.04 \n Dortmund Wambel \nWambeler Hellweg 180 \n  \n📍  01.05-10.05 \nFredenbaumplatz \nZufahrt Eberstraße \n  \nFreut euch auf ein neues\, zeitgemäßes Circusprogramm für die ganze Familie mit: \n  \n✨ Tierdressuren \n  \n✨ Artistik \n  \n✨ Humor \n  \n✨ echter Circus-Atmosphäre \n  \nVorstellungen: \n🕓 täglich 16:00 Uhr \nSonntags 15:00 Uhr \n❌ Montags\, dienstags und Mittwoch (nur 06.05) keine Shows! \n  \n  \n⭐Freitags ist Familientag \nErwachsene zahlen Kinderpreise auf Sperrsitz und Loge! \n  \n  \nWir freuen uns auf euren Besuch 🎪
URL:https://circusantoni.de/event/dortmund-wambel-22-04/
LOCATION:Wambeler Hellweg\, Wambeler Hellweg 180\, Dortmund\, NRW\, 44143
ATTACH;FMTTYPE=image/jpeg:https://circusantoni.de/wp-content/uploads/2024/03/20211217_145241-scaled.jpg
ORGANIZER;CN="Circus Antoni":MAILTO:info@circusantoni.de
END:VEVENT
BEGIN:VEVENT
DTSTART;TZID=Europe/Berlin:20260423T160000
DTEND;TZID=Europe/Berlin:20260423T183000
DTSTAMP:20260419T221449
CREATED:20260330T151458Z
LAST-MODIFIED:20260330T151458Z
UID:17397-1776960000-1776969000@circusantoni.de
SUMMARY:Dortmund Wambel 23.04
DESCRIPTION:Manege frei für Dortmunds Lieblingscircus! \n  \nFreut euch auf zahlreiche unvergessliche Shows- traditionell an zwei Standorten!  \n  \n📍 17.04-26.04 \n Dortmund Wambel \nWambeler Hellweg 180 \n  \n📍  01.05-10.05 \nFredenbaumplatz \nZufahrt Eberstraße \n  \nFreut euch auf ein neues\, zeitgemäßes Circusprogramm für die ganze Familie mit: \n  \n✨ Tierdressuren \n  \n✨ Artistik \n  \n✨ Humor \n  \n✨ echter Circus-Atmosphäre \n  \nVorstellungen: \n🕓 täglich 16:00 Uhr \nSonntags 15:00 Uhr \n❌ Montags\, dienstags und Mittwoch (nur 06.05) keine Shows! \n  \n  \n⭐Freitags ist Familientag \nErwachsene zahlen Kinderpreise auf Sperrsitz und Loge! \n  \n  \nWir freuen uns auf euren Besuch 🎪
URL:https://circusantoni.de/event/dortmund-wambel-23-04/
LOCATION:Wambeler Hellweg\, Wambeler Hellweg 180\, Dortmund\, NRW\, 44143
ATTACH;FMTTYPE=image/jpeg:https://circusantoni.de/wp-content/uploads/2024/03/20211217_145241-scaled.jpg
END:VEVENT
BEGIN:VEVENT
DTSTART;TZID=Europe/Berlin:20260424T160000
DTEND;TZID=Europe/Berlin:20260424T183000
DTSTAMP:20260419T221449
CREATED:20260330T151644Z
LAST-MODIFIED:20260330T151644Z
UID:17402-1777046400-1777055400@circusantoni.de
SUMMARY:Dortmund Wambel 24.04 - Familientag
DESCRIPTION:Manege frei für Dortmunds Lieblingscircus! \n  \nFreut euch auf zahlreiche unvergessliche Shows- traditionell an zwei Standorten!  \n  \n📍 17.04-26.04 \n Dortmund Wambel \nWambeler Hellweg 180 \n  \n📍  01.05-10.05 \nFredenbaumplatz \nZufahrt Eberstraße \n  \nFreut euch auf ein neues\, zeitgemäßes Circusprogramm für die ganze Familie mit: \n  \n✨ Tierdressuren \n  \n✨ Artistik \n  \n✨ Humor \n  \n✨ echter Circus-Atmosphäre \n  \nVorstellungen: \n🕓 täglich 16:00 Uhr \nSonntags 15:00 Uhr \n❌ Montags\, dienstags und Mittwoch (nur 06.05) keine Shows! \n  \n  \n⭐Freitags ist Familientag \nErwachsene zahlen Kinderpreise auf Sperrsitz und Loge! \n  \n  \nWir freuen uns auf euren Besuch 🎪
URL:https://circusantoni.de/event/dortmund-wambel-24-04-familientag/
LOCATION:Wambeler Hellweg\, Wambeler Hellweg 180\, Dortmund\, NRW\, 44143
ATTACH;FMTTYPE=image/jpeg:https://circusantoni.de/wp-content/uploads/2024/03/20211217_145241-scaled.jpg
ORGANIZER;CN="Circus Antoni":MAILTO:info@circusantoni.de
END:VEVENT
BEGIN:VEVENT
DTSTART;TZID=Europe/Berlin:20260425T160000
DTEND;TZID=Europe/Berlin:20260425T183000
DTSTAMP:20260419T221449
CREATED:20260330T151847Z
LAST-MODIFIED:20260330T151847Z
UID:17407-1777132800-1777141800@circusantoni.de
SUMMARY:Dortmund Wambel 25.05
DESCRIPTION:Manege frei für Dortmunds Lieblingscircus! \n  \nFreut euch auf zahlreiche unvergessliche Shows- traditionell an zwei Standorten!  \n  \n📍 17.04-26.04 \n Dortmund Wambel \nWambeler Hellweg 180 \n  \n📍  01.05-10.05 \nFredenbaumplatz \nZufahrt Eberstraße \n  \nFreut euch auf ein neues\, zeitgemäßes Circusprogramm für die ganze Familie mit: \n  \n✨ Tierdressuren \n  \n✨ Artistik \n  \n✨ Humor \n  \n✨ echter Circus-Atmosphäre \n  \nVorstellungen: \n🕓 täglich 16:00 Uhr \nSonntags 15:00 Uhr \n❌ Montags\, dienstags und Mittwoch (nur 06.05) keine Shows! \n  \n  \n⭐Freitags ist Familientag \nErwachsene zahlen Kinderpreise auf Sperrsitz und Loge! \n  \n  \nWir freuen uns auf euren Besuch 🎪
URL:https://circusantoni.de/event/dortmund-wambel-25-05/
LOCATION:Wambeler Hellweg\, Wambeler Hellweg 180\, Dortmund\, NRW\, 44143
ATTACH;FMTTYPE=image/jpeg:https://circusantoni.de/wp-content/uploads/2024/03/20211217_145241-scaled.jpg
END:VEVENT
BEGIN:VEVENT
DTSTART;TZID=Europe/Berlin:20260426T150000
DTEND;TZID=Europe/Berlin:20260426T173000
DTSTAMP:20260419T221449
CREATED:20260330T152029Z
LAST-MODIFIED:20260330T152029Z
UID:17412-1777215600-1777224600@circusantoni.de
SUMMARY:Dortmund Wambel 26.04
DESCRIPTION:Manege frei für Dortmunds Lieblingscircus! \n  \nFreut euch auf zahlreiche unvergessliche Shows- traditionell an zwei Standorten!  \n  \n📍 17.04-26.04 \n Dortmund Wambel \nWambeler Hellweg 180 \n  \n📍  01.05-10.05 \nFredenbaumplatz \nZufahrt Eberstraße \n  \nFreut euch auf ein neues\, zeitgemäßes Circusprogramm für die ganze Familie mit: \n  \n✨ Tierdressuren \n  \n✨ Artistik \n  \n✨ Humor \n  \n✨ echter Circus-Atmosphäre \n  \nVorstellungen: \n🕓 täglich 16:00 Uhr \nSonntags 15:00 Uhr \n❌ Montags\, dienstags und Mittwoch (nur 06.05) keine Shows! \n  \n  \n⭐Freitags ist Familientag \nErwachsene zahlen Kinderpreise auf Sperrsitz und Loge! \n  \n  \nWir freuen uns auf euren Besuch 🎪
URL:https://circusantoni.de/event/dortmund-wambel-26-04/
LOCATION:Wambeler Hellweg\, Wambeler Hellweg 180\, Dortmund\, NRW\, 44143
ATTACH;FMTTYPE=image/jpeg:https://circusantoni.de/wp-content/uploads/2024/03/20211217_145241-scaled.jpg
END:VEVENT
END:VCALENDAR