BEGIN:VCALENDAR
VERSION:2.0
PRODID:-//Circus Antoni - ECPv6.8.2.1//NONSGML v1.0//EN
CALSCALE:GREGORIAN
METHOD:PUBLISH
X-WR-CALNAME:Circus Antoni
X-ORIGINAL-URL:https://circusantoni.de
X-WR-CALDESC:Veranstaltungen für Circus Antoni
REFRESH-INTERVAL;VALUE=DURATION:PT1H
X-Robots-Tag:noindex
X-PUBLISHED-TTL:PT1H
BEGIN:VTIMEZONE
TZID:Europe/Berlin
BEGIN:DAYLIGHT
TZOFFSETFROM:+0100
TZOFFSETTO:+0200
TZNAME:CEST
DTSTART:20260329T010000
END:DAYLIGHT
BEGIN:STANDARD
TZOFFSETFROM:+0200
TZOFFSETTO:+0100
TZNAME:CET
DTSTART:20261025T010000
END:STANDARD
END:VTIMEZONE
BEGIN:VEVENT
DTSTART;TZID=Europe/Berlin:20260313T160000
DTEND;TZID=Europe/Berlin:20260313T183000
DTSTAMP:20260419T203758
CREATED:20250906T154015Z
LAST-MODIFIED:20260309T212518Z
UID:12992-1773417600-1773426600@circusantoni.de
SUMMARY:Witten
DESCRIPTION:🎪 Circus Antoni kommt nach Witten! \nVom 13.03 – 22.03 gastieren wir \n📍 Am Ostermann in Witten \nFreut euch auf ein tolles Circusprogramm für die ganze Familie mit: \n✨ Tierdressuren \n✨ Artistik \n✨ Humor \n✨ echter Circus-Atmosphäre \nVorstellungen: \n🕓 täglich 16:00 Uhr \n🕒 sonntags 15:00 Uhr \n❌ Montag + Dienstag keine Vorstellung \n⭐ Freitag ist Familientag \nErwachsene zahlen Kinderpreise! \nWir freuen uns auf euren Besuch 🎪
URL:https://circusantoni.de/event/antonis-weihnachtscircus-30/
LOCATION:Witten Ostermann\, Fredi-Ostermann-Strasse\, Witten\, NRW\, 58454
ATTACH;FMTTYPE=image/jpeg:https://circusantoni.de/wp-content/uploads/2025/09/Picsart_24-12-12_11-00-25-412.jpg
ORGANIZER;CN="Circus Antoni":MAILTO:info@circusantoni.de
END:VEVENT
BEGIN:VEVENT
DTSTART;TZID=Europe/Berlin:20260314T160000
DTEND;TZID=Europe/Berlin:20260314T183000
DTSTAMP:20260419T203758
CREATED:20250906T151751Z
LAST-MODIFIED:20260309T212702Z
UID:12985-1773504000-1773513000@circusantoni.de
SUMMARY:Witten
DESCRIPTION:🎪 Circus Antoni kommt nach Witten! \nVom 13.03 – 22.03 gastieren wir \n📍 Am Ostermann in Witten \nFreut euch auf ein tolles Circusprogramm für die ganze Familie mit: \n✨ Tierdressuren \n✨ Artistik \n✨ Humor \n✨ echter Circus-Atmosphäre \nVorstellungen: \n🕓 täglich 16:00 Uhr \n🕒 sonntags 15:00 Uhr \n❌ Montag + Dienstag keine Vorstellung \n⭐ Freitag ist Familientag \nErwachsene zahlen Kinderpreise! \nWir freuen uns auf euren Besuch 🎪
URL:https://circusantoni.de/event/antonis-weihnachtscircus-29/
LOCATION:Witten Ostermann\, Fredi-Ostermann-Strasse\, Witten\, NRW\, 58454
ATTACH;FMTTYPE=image/jpeg:https://circusantoni.de/wp-content/uploads/2025/09/Picsart_24-12-12_11-00-25-412.jpg
END:VEVENT
BEGIN:VEVENT
DTSTART;TZID=Europe/Berlin:20260315T160000
DTEND;TZID=Europe/Berlin:20260315T183000
DTSTAMP:20260419T203758
CREATED:20250906T151405Z
LAST-MODIFIED:20260315T105421Z
UID:12979-1773590400-1773599400@circusantoni.de
SUMMARY:Witten
DESCRIPTION:🎪 Circus Antoni kommt nach Witten! \nVom 13.03 – 22.03 gastieren wir \n📍 Am Ostermann in Witten \nFreut euch auf ein tolles Circusprogramm für die ganze Familie mit: \n✨ Tierdressuren \n✨ Artistik \n✨ Humor \n✨ echter Circus-Atmosphäre \nVorstellungen: \n🕓 täglich 16:00 Uhr \n❌ Montag + Dienstag keine Vorstellung \n⭐ Freitag ist Familientag \nErwachsene zahlen Kinderpreise! \nWir freuen uns auf euren Besuch 🎪
URL:https://circusantoni.de/event/antonis-weihnachtscircus-28/
LOCATION:Witten Ostermann\, Fredi-Ostermann-Strasse\, Witten\, NRW\, 58454
ATTACH;FMTTYPE=image/jpeg:https://circusantoni.de/wp-content/uploads/2025/09/Picsart_24-12-12_11-00-25-412.jpg
END:VEVENT
BEGIN:VEVENT
DTSTART;TZID=Europe/Berlin:20260318T160000
DTEND;TZID=Europe/Berlin:20260318T183000
DTSTAMP:20260419T203758
CREATED:20250906T151207Z
LAST-MODIFIED:20260309T213221Z
UID:12973-1773849600-1773858600@circusantoni.de
SUMMARY:Witten
DESCRIPTION:🎪 Circus Antoni kommt nach Witten! \nVom 13.03 – 22.03 gastieren wir \n📍 Am Ostermann in Witten \nFreut euch auf ein tolles Circusprogramm für die ganze Familie mit: \n✨ Tierdressuren \n✨ Artistik \n✨ Humor \n✨ echter Circus-Atmosphäre \nVorstellungen: \n🕓 täglich 16:00 Uhr \n🕒 sonntags 15:00 Uhr \n❌ Montag + Dienstag keine Vorstellung \n⭐ Freitag ist Familientag \nErwachsene zahlen Kinderpreise! \nWir freuen uns auf euren Besuch 🎪
URL:https://circusantoni.de/event/antonis-weihnachtscircus-27/
LOCATION:Witten Ostermann\, Fredi-Ostermann-Strasse\, Witten\, NRW\, 58454
ATTACH;FMTTYPE=image/jpeg:https://circusantoni.de/wp-content/uploads/2025/09/Picsart_24-12-12_11-00-25-412.jpg
END:VEVENT
BEGIN:VEVENT
DTSTART;TZID=Europe/Berlin:20260319T160000
DTEND;TZID=Europe/Berlin:20260319T183000
DTSTAMP:20260419T203758
CREATED:20250906T151005Z
LAST-MODIFIED:20260309T213417Z
UID:12966-1773936000-1773945000@circusantoni.de
SUMMARY:Witten
DESCRIPTION:🎪 Circus Antoni kommt nach Witten! \nVom 13.03 – 22.03 gastieren wir \n📍 Am Ostermann in Witten \nFreut euch auf ein tolles Circusprogramm für die ganze Familie mit: \n✨ Tierdressuren \n✨ Artistik \n✨ Humor \n✨ echter Circus-Atmosphäre \nVorstellungen: \n🕓 täglich 16:00 Uhr \n🕒 sonntags 15:00 Uhr \n❌ Montag + Dienstag keine Vorstellung \n⭐ Freitag ist Familientag \nErwachsene zahlen Kinderpreise! \nWir freuen uns auf euren Besuch 🎪
URL:https://circusantoni.de/event/antonis-weihnachtscircus-26/
LOCATION:Witten Ostermann\, Fredi-Ostermann-Strasse\, Witten\, NRW\, 58454
ATTACH;FMTTYPE=image/jpeg:https://circusantoni.de/wp-content/uploads/2025/09/Picsart_24-12-12_11-00-25-412.jpg
END:VEVENT
BEGIN:VEVENT
DTSTART;TZID=Europe/Berlin:20260320T160000
DTEND;TZID=Europe/Berlin:20260320T183000
DTSTAMP:20260419T203758
CREATED:20250906T150618Z
LAST-MODIFIED:20260309T213636Z
UID:12959-1774022400-1774031400@circusantoni.de
SUMMARY:Witten
DESCRIPTION:🎪 Circus Antoni kommt nach Witten! \nVom 13.03 – 22.03 gastieren wir \n📍 Am Ostermann in Witten \nFreut euch auf ein tolles Circusprogramm für die ganze Familie mit: \n✨ Tierdressuren \n✨ Artistik \n✨ Humor \n✨ echter Circus-Atmosphäre \nVorstellungen: \n🕓 täglich 16:00 Uhr \n🕒 sonntags 15:00 Uhr \n❌ Montag + Dienstag keine Vorstellung \n⭐ Freitag ist Familientag \nErwachsene zahlen Kinderpreise! \nWir freuen uns auf euren Besuch 🎪
URL:https://circusantoni.de/event/antonis-weihnachtscircus-25/
LOCATION:Witten Ostermann\, Fredi-Ostermann-Strasse\, Witten\, NRW\, 58454
ATTACH;FMTTYPE=image/jpeg:https://circusantoni.de/wp-content/uploads/2025/09/Picsart_24-12-12_11-00-25-412.jpg
ORGANIZER;CN="Circus Antoni":MAILTO:info@circusantoni.de
END:VEVENT
BEGIN:VEVENT
DTSTART;TZID=Europe/Berlin:20260321T160000
DTEND;TZID=Europe/Berlin:20260321T183000
DTSTAMP:20260419T203758
CREATED:20250906T150336Z
LAST-MODIFIED:20260309T213821Z
UID:12952-1774108800-1774117800@circusantoni.de
SUMMARY:Witten
DESCRIPTION:🎪 Circus Antoni kommt nach Witten! \nVom 13.03 – 22.03 gastieren wir \n📍 Am Ostermann in Witten \nFreut euch auf ein tolles Circusprogramm für die ganze Familie mit: \n✨ Tierdressuren \n✨ Artistik \n✨ Humor \n✨ echter Circus-Atmosphäre \nVorstellungen: \n🕓 täglich 16:00 Uhr \n🕒 sonntags 15:00 Uhr \n❌ Montag + Dienstag keine Vorstellung \n⭐ Freitag ist Familientag \nErwachsene zahlen Kinderpreise! \nWir freuen uns auf euren Besuch 🎪
URL:https://circusantoni.de/event/antonis-weihnachtscircus-24/
LOCATION:Witten Ostermann\, Fredi-Ostermann-Strasse\, Witten\, NRW\, 58454
ATTACH;FMTTYPE=image/jpeg:https://circusantoni.de/wp-content/uploads/2025/09/Picsart_24-12-12_11-00-25-412.jpg
ORGANIZER;CN="Circus Antoni":MAILTO:info@circusantoni.de
END:VEVENT
BEGIN:VEVENT
DTSTART;TZID=Europe/Berlin:20260322T160000
DTEND;TZID=Europe/Berlin:20260322T183000
DTSTAMP:20260419T203758
CREATED:20250906T145935Z
LAST-MODIFIED:20260315T105351Z
UID:12945-1774195200-1774204200@circusantoni.de
SUMMARY:Witten
DESCRIPTION:🎪 Circus Antoni kommt nach Witten! \nVom 13.03 – 22.03 gastieren wir \n📍 Am Ostermann in Witten \nFreut euch auf ein tolles Circusprogramm für die ganze Familie mit: \n✨ Tierdressuren \n✨ Artistik \n✨ Humor \n✨ echter Circus-Atmosphäre \nVorstellungen: \n🕓 täglich 16:00 Uhr \n❌ Montag + Dienstag keine Vorstellung \n⭐ Freitag ist Familientag \nErwachsene zahlen Kinderpreise! \nWir freuen uns auf euren Besuch 🎪
URL:https://circusantoni.de/event/antonis-weihnachtscircus-23/
LOCATION:Witten Ostermann\, Fredi-Ostermann-Strasse\, Witten\, NRW\, 58454
ATTACH;FMTTYPE=image/jpeg:https://circusantoni.de/wp-content/uploads/2025/09/Picsart_24-12-12_11-00-25-412.jpg
ORGANIZER;CN="Circus Antoni":MAILTO:info@circusantoni.de
END:VEVENT
END:VCALENDAR