BEGIN:VCALENDAR
VERSION:2.0
PRODID:-//Circus Antoni - ECPv6.8.2.1//NONSGML v1.0//EN
CALSCALE:GREGORIAN
METHOD:PUBLISH
X-ORIGINAL-URL:https://circusantoni.de
X-WR-CALDESC:Veranstaltungen für Circus Antoni
REFRESH-INTERVAL;VALUE=DURATION:PT1H
X-Robots-Tag:noindex
X-PUBLISHED-TTL:PT1H
BEGIN:VTIMEZONE
TZID:Europe/Berlin
BEGIN:DAYLIGHT
TZOFFSETFROM:+0100
TZOFFSETTO:+0200
TZNAME:CEST
DTSTART:20250330T010000
END:DAYLIGHT
BEGIN:STANDARD
TZOFFSETFROM:+0200
TZOFFSETTO:+0100
TZNAME:CET
DTSTART:20251026T010000
END:STANDARD
END:VTIMEZONE
BEGIN:VEVENT
DTSTART;TZID=Europe/Berlin:20251225T160000
DTEND;TZID=Europe/Berlin:20251225T183000
DTSTAMP:20260420T034114
CREATED:20250906T134402Z
LAST-MODIFIED:20251107T104333Z
UID:12911-1766678400-1766687400@circusantoni.de
SUMMARY:Antonis Weihnachtscircus
DESCRIPTION:✨ Der Weihnachtscircus im EN-Kreis – das schönste Familienevent der Umgebung! ✨\nFreuen Sie sich auf ein magisches Showerlebnis\, welches die ganze Familie verzaubert. Werdet ein Teil unserer märchenhafte Weihnachtsgeschichte und genießt eine außergewöhnliche Familienshow in echter Wohnzimmer-Atmosphäre! Erleben Sie atemberaubende Artistik\, mitreißende Showmomente und das warme Gefühl echter Weihnachtsmagie- alles vereint in einem Circuszelt🎁🎪 \nVom 11. Dezember bis 4. Januar heißt es täglich um 16:00 Uhr: Manege frei für ein unvergessliches Erlebnis!\nFreitags gibt es  zwei Vorstellungen um 15:00 Uhr und 18:30 Uhr. \nAn Heiligabend und Silvester beginnt die Vorstellung bereits feierlich um 14:00 Uhr.\n🎄 Ob mit Kindern\, Freunden oder der ganzen Familie – der Weihnachtscircus ist der perfekte Ort\, um gemeinsam unvergessliche Erinnerungen zu schaffen. \n  \n•  Familientag- Erwachsene zahlen nur den Kinderpreis in den Kategorien Loge & Sperrsitz. \n• Ab dem 01.12 öffnet der VVK am Veranstaltungsgelände täglich von 10-12uhr \n• Die Tageskasse öffnet immer eine Stunde vor Showbeginn. \n• Reservierung nur möglich in den Kategorien \,\,Sperrsitz“ und \,\,Loge“. \n• Platzvergabe der Ticketreservierungen erfolgt nach Buchungsreihenfolge. \n• Rollstuhlplätze bitte telefonisch oder per WhatsApp unter 0170 2477362 buchen.
URL:https://circusantoni.de/event/antonis-weihnachtscircus-18/
LOCATION:Witten Ostermann\, Fredi-Ostermann-Strasse\, Witten\, NRW\, 58454
ATTACH;FMTTYPE=image/jpeg:https://circusantoni.de/wp-content/uploads/2025/09/Picsart_24-12-12_11-00-25-412.jpg
END:VEVENT
END:VCALENDAR